BEGIN:VCALENDAR
VERSION:2.0
PRODID:-//Burnaby Pride - ECPv6.10.1.1//NONSGML v1.0//EN
CALSCALE:GREGORIAN
METHOD:PUBLISH
X-WR-CALNAME:Burnaby Pride
X-ORIGINAL-URL:https://www.burnabypride.com
X-WR-CALDESC:Events for Burnaby Pride
REFRESH-INTERVAL;VALUE=DURATION:PT1H
X-Robots-Tag:noindex
X-PUBLISHED-TTL:PT1H
BEGIN:VTIMEZONE
TZID:America/Halifax
BEGIN:DAYLIGHT
TZOFFSETFROM:-0400
TZOFFSETTO:-0300
TZNAME:ADT
DTSTART:20230312T060000
END:DAYLIGHT
BEGIN:STANDARD
TZOFFSETFROM:-0300
TZOFFSETTO:-0400
TZNAME:AST
DTSTART:20231105T050000
END:STANDARD
END:VTIMEZONE
BEGIN:VEVENT
DTSTART;TZID=America/Halifax:20230722T090000
DTEND;TZID=America/Halifax:20230722T103000
DTSTAMP:20260425T154054
CREATED:20230716T205915Z
LAST-MODIFIED:20230721T231522Z
UID:5457-1690016400-1690021800@www.burnabypride.com
SUMMARY:Burnaby Lake Birding for the 2SLGBTQIA+ Community
DESCRIPTION:Celebrate Burnaby Pride with a guided bird outing for members of the 2SLGBTQIA+ community and allies at Burnaby Lake Regional Park! All skill levels welcome. \nJoin Lindz Marsh (she/her)\, Burnaby Lake Park Association Board Director\, and another local birder as they share their knowledge and passion for birds while we wander through Burnaby Lake trails\, culminating at Piper Spit.\nConnect with nature and celebrate the diversity of bird life at Burnaby Lake Regional Park. We’ll listen for beautiful bird song\, spot birds large and small\, and enjoy talking about bird habitat and plumage. Summer is a great time to see both seasonal visitors such as Sandhill Cranes and local year-round species such as Spotted Towhees and Wood Ducks. \nIf possible\, bring a pair of binoculars that will allow you to identify and enjoy distant birds easily.\nWe warmly welcome 2SLGBTQIA+ members\, particularly members of the BIPOC community. We’ll be using Burnaby Lake Regional Park trails which are accessible to wheelchair-users\, people who use mobility aids\, or child strollers. \nSee you there! \nLimited spaces. Free but registration required: https://www.eventbrite.ca/e/burnaby-lake-birding-welcoming-the-2slgbtqia-community-registration-677207645297?aff=oddtdtcreator
URL:https://www.burnabypride.com/event/burnaby-lake-birding-for-the-2slgbtqia-community/
LOCATION:Burnaby Lake Park Association\, 4519 Piper Ave\, Burnaby\, BC\, V5A 3B5\, Canada
CATEGORIES:Community,Educational,Pride
ATTACH;FMTTYPE=image/jpeg:https://www.burnabypride.com/wp-content/uploads/2023/07/burnaby-lake-birding.jpeg
END:VEVENT
END:VCALENDAR