BEGIN:VCALENDAR
VERSION:2.0
PRODID:-//Burnaby Pride - ECPv6.10.1.1//NONSGML v1.0//EN
CALSCALE:GREGORIAN
METHOD:PUBLISH
X-WR-CALNAME:Burnaby Pride
X-ORIGINAL-URL:https://www.burnabypride.com
X-WR-CALDESC:Events for Burnaby Pride
REFRESH-INTERVAL;VALUE=DURATION:PT1H
X-Robots-Tag:noindex
X-PUBLISHED-TTL:PT1H
BEGIN:VTIMEZONE
TZID:America/Halifax
BEGIN:DAYLIGHT
TZOFFSETFROM:-0400
TZOFFSETTO:-0300
TZNAME:ADT
DTSTART:20210314T060000
END:DAYLIGHT
BEGIN:STANDARD
TZOFFSETFROM:-0300
TZOFFSETTO:-0400
TZNAME:AST
DTSTART:20211107T050000
END:STANDARD
TZID:America/Vancouver
BEGIN:DAYLIGHT
TZOFFSETFROM:-0800
TZOFFSETTO:-0700
TZNAME:PDT
DTSTART:20210314T100000
END:DAYLIGHT
BEGIN:STANDARD
TZOFFSETFROM:-0700
TZOFFSETTO:-0800
TZNAME:PST
DTSTART:20211107T090000
END:STANDARD
END:VTIMEZONE
BEGIN:VEVENT
DTSTART;TZID=America/Halifax:20210715T200000
DTEND;TZID=America/Halifax:20210715T213000
DTSTAMP:20260424T173312
CREATED:20210718T113832Z
LAST-MODIFIED:20210718T114223Z
UID:4944-1626379200-1626384600@www.burnabypride.com
SUMMARY:Hank Pine at the Shadbolt Centre
DESCRIPTION:Hank is a queer artist that has been an international touring and recording artist for over 20 years\, with dates extensively through Europe and the United States. He has written five musicals\, The Tragical Comedy of Punch and Judy for Caravan Farm Theatre\, Blisskrieg for Atomic Vaudeville\, Tireseias for Phoenix Theatre\, Yukon Famous for the Yukon Arts Society\, and Heatseeker: a musical about gayness\, Grindr\, and geeks in love for Intrepid Theatre. He also recently finished teaching a course for the University of Victoria on how to successfully workshop a musical. Hank has also worked as a set designer\, storyboard artist\, and comic book creator. He has four years in the film industry in a variety of capacities involving acting\, music coaching\, construction\, and painting.\nMATURE CONTENT\nhttps://www.youtube.com/results?search_query=hank+pine \nTickets:\n$20 for limited in person tickets\n$10 for Live Stream tickets \nTickets:\nLivestream tickets can be purchased online:\nhttps://tickets.shadboltcentre.com/TheatreManager/1/tmEvent/tmEvent1331.html \nIn-person tickets must be purchased over the phone:\nShadbolt Centre Box Office\n604.205.3000
URL:https://www.burnabypride.com/event/hank-pine-at-the-shadbolt-centre/
LOCATION:Shadbolt Centre for the Arts\, 6450 Deer Lake Ave\, Burnaby\, BC\, V5G 2J3\, Canada
CATEGORIES:Concert,Pride,Upcoming
ATTACH;FMTTYPE=image/jpeg:https://www.burnabypride.com/wp-content/uploads/2021/07/Hank.jpg
END:VEVENT
BEGIN:VEVENT
DTSTART;TZID=America/Halifax:20210722T200000
DTEND;TZID=America/Halifax:20210722T213000
DTSTAMP:20260424T173312
CREATED:20210718T114107Z
LAST-MODIFIED:20210718T114243Z
UID:4948-1626984000-1626989400@www.burnabypride.com
SUMMARY:the della kit at the Shadbolt Centre for the Arts
DESCRIPTION:As light and enchanting as the music she creates\, the della kit\, (FKA Erica Dee) is a vocalist\, songwriter\, producer\, music teacher and creator of “Sing for the Soul”. Through the cultivation of the soul-driven energies and her boundless musical influences the della kit offers neo-soul with dreamy landscapes composed of evocative\, layered harmonies and stories of self-love and healing. \nhttps://www.thedellakit.com/ \nTickets:\n$20 for limited in person tickets\n$10 for Live Stream tickets \nLivestream tickets can be purchased online:\nhttps://tickets.shadboltcentre.com/TheatreManager/1/tmEvent/tmEvent1332.html \nIn-person tickets must be purchased over the phone:\nShadbolt Centre Box Office\n604.205.3000
URL:https://www.burnabypride.com/event/the-della-kit-at-the-shadbolt-centre-for-the-arts/
LOCATION:Shadbolt Centre for the Arts\, 6450 Deer Lake Ave\, Burnaby\, BC\, V5G 2J3\, Canada
CATEGORIES:Concert,Pride,Upcoming
ATTACH;FMTTYPE=image/jpeg:https://www.burnabypride.com/wp-content/uploads/2021/07/Della-Kit.jpg
END:VEVENT
BEGIN:VEVENT
DTSTART;TZID=America/Vancouver:20210723T190000
DTEND;TZID=America/Vancouver:20210723T203000
DTSTAMP:20260424T173312
CREATED:20210608T094624Z
LAST-MODIFIED:20210723T132813Z
UID:4677-1627066800-1627072200@www.burnabypride.com
SUMMARY:Queer As Funk Pride Concert
DESCRIPTION:It started\, like most good ideas\, over beer and song. A few short years later\, Vancouver’s Queer as Funk is renowned for its tight rhythm section\, hot horns\, and soulful vocals\, bringing together the city’s best musicians in a dynamic\, high-energy dance band. There’s nothing this tight-knit band loves more than performing together\, and that love is palpable to audiences everywhere. \n“There’s nowt so queer as folk”\, or so the old English adage goes. Queer As Funk believes in celebrating differences\, and what better way than with a big ol’ dance party? \nJoin Burnaby Pride as we celebrate and dance to the amazing Queer as Funk! \nEvent Accessibility :\n– ASL Interpretation\n– Live Captioning available on Vimeo\, Facebook & YouTube \n 
URL:https://www.burnabypride.com/event/queer-as-funk-pride-concert/
LOCATION:BC
CATEGORIES:Concert,Pride,Upcoming,Virtual
ATTACH;FMTTYPE=image/jpeg:https://www.burnabypride.com/wp-content/uploads/2021/07/QAF-facebook-event-cover.jpg
END:VEVENT
END:VCALENDAR